BEGIN:VCALENDAR
VERSION:2.0
PRODID:-//wp-events-plugin.com//7.2.3.1//EN
TZID:Europe/Berlin
X-WR-TIMEZONE:Europe/Berlin
BEGIN:VEVENT
UID:62@exirius.de
DTSTART;TZID=Europe/Berlin:20210623T090000
DTEND;TZID=Europe/Berlin:20210623T170000
DTSTAMP:20210512T092535Z
URL:https://www.exirius.de/veranstaltungen/2er-kick-off-juni-21-pm-nach-gp
 m-ipma-level-d-c-b/
SUMMARY:Projektmanagement nach IPMA® (Level D/C/B) - Juni 2021 - 2. Kick-o
 ff (Kurs 3)
DESCRIPTION:2er Kick-off-Termin (für Nachzügler) zur Vorbereitung auf den
  dritten Kurs im Jahr 2021  PM-Kurs im Level D \, Level C oder Level B 
  Zertifizierung nach (GPM/IPMA) branchenübergreifend u. praxisnah geeigne
 t für Fach- und Führungskräfte u. PM-Interessenten bewährtes eXirius B
 lended Learning-Konzept hybride Kursdurchführung (Workshops u. Webinare) 
 Erwerb eines international anerkannten Projektmanagement Zertifikates...
CATEGORIES:GPM-Regional,GPM/IPMA-Zertifizierung,Kurse,Level B,Level
 C,Level D,online,Onlineevent,Projektmanagement
LOCATION:Hybride Kursdurchführung mit Präsenzworkshops und Webinaren\, Ju
 chem-Straße 24\, Eppelborn\, Deutschland
GEO:49.407934;6.961876
X-APPLE-STRUCTURED-LOCATION;VALUE=URI;X-ADDRESS=Juchem-Straße 24\, Eppelbo
 rn\, 66571\, Deutschland;X-APPLE-RADIUS=100;X-TITLE=Hybride Kursdurchführ
 ung mit Präsenzworkshops und Webinaren:geo:49.407934,6.961876
END:VEVENT
BEGIN:VTIMEZONE
TZID:Europe/Berlin
X-LIC-LOCATION:Europe/Berlin
BEGIN:DAYLIGHT
DTSTART:20210328T030000
TZOFFSETFROM:+0100
TZOFFSETTO:+0200
TZNAME:CEST
END:DAYLIGHT
END:VTIMEZONE
END:VCALENDAR