BEGIN:VCALENDAR
VERSION:2.0
PRODID:-//wp-events-plugin.com//7.2.3.1//EN
TZID:Europe/Berlin
X-WR-TIMEZONE:Europe/Berlin
BEGIN:VEVENT
UID:6@exirius.de
DTSTART;TZID=Europe/Berlin:20180626T090000
DTEND;TZID=Europe/Berlin:20180626T170000
DTSTAMP:20190509T130102Z
URL:https://www.exirius.de/veranstaltungen/kick-off-ipma-level-d-zertifizi
 erte-r-projektmanagement-fachfrau-fachmann-gpm-20180626/
SUMMARY:Kick-Off: IPMA Level D – Zertifizierte/r Projektmanagement-Fachfr
 au/Fachmann (GPM)
DESCRIPTION:Kick-Off Veranstaltung zur Vorbereitung auf die IPMA Level D-Ze
 rtifizierung (GPM) geeignet für Fach - und Führungskräfte aller Branche
 n bewährtes eXirius Blended Learning-Konzept zugelassen zur Förderung mi
 t Bildungsgutschein durch Arbeitsagentur oder Jobcenter Kurszeiten Diensta
 g\, 26. Juni 2018 (09:00 - 17:00 Uhr) Weitere Informationen finden Sie au
 f der Seite IPMA Level D –...
CATEGORIES:Projektmanagement
LOCATION:TEACH GmbH & Co. KG\, Untertürkheimer Str. 24\, Saarbrücken\, De
 utschland
GEO:49.213562;6.969225
X-APPLE-STRUCTURED-LOCATION;VALUE=URI;X-ADDRESS=Untertürkheimer Str. 24\, 
 Saarbrücken\, 66117\, Deutschland;X-APPLE-RADIUS=100;X-TITLE=TEACH GmbH &
  Co. KG:geo:49.213562,6.969225
END:VEVENT
BEGIN:VTIMEZONE
TZID:Europe/Berlin
X-LIC-LOCATION:Europe/Berlin
BEGIN:DAYLIGHT
DTSTART:20180325T030000
TZOFFSETFROM:+0100
TZOFFSETTO:+0200
TZNAME:CEST
END:DAYLIGHT
END:VTIMEZONE
END:VCALENDAR