BEGIN:VCALENDAR
VERSION:2.0
PRODID:-//wp-events-plugin.com//7.2.3.1//EN
TZID:Europe/Berlin
X-WR-TIMEZONE:Europe/Berlin
BEGIN:VEVENT
UID:35@exirius.de
DTSTART;TZID=Europe/Berlin:20200320T090000
DTEND;TZID=Europe/Berlin:20200320T170000
DTSTAMP:20191217T121054Z
URL:https://www.exirius.de/veranstaltungen/kick-off-ipma-level-d-zertifizi
 erte-r-projektmanagement-fachfrau-fachmann-gpm-3/
SUMMARY:Kick-off: IPMA Level D (GPM)
DESCRIPTION:IPMA® Level D – Certified Project Management Associate (GPM)
  Auftaktveranstaltung zur Vorbereitung auf die IPMA Level D-Zertifizierung
  geeignet für Fach - und Führungskräfte aller Branchen bewährtes eXiri
 us Blended Learning-Konzept Kurszeiten Freitag\, 20. März 2020 (09:00 - 1
 7:00 Uhr) Weitere Informationen finden Sie auf der Seite IPMA Level D – 
 Zertifizierte/r...
CATEGORIES:Kurse,Projektmanagement
LOCATION:eXirius IT Dienstleistungen GmbH\, Juchem-Straße 24\, Eppelborn\,
  Deutschland
GEO:49.4081;6.96074
X-APPLE-STRUCTURED-LOCATION;VALUE=URI;X-ADDRESS=Juchem-Straße 24\, Eppelbo
 rn\, Saarland\, 66571\, Deutschland;X-APPLE-RADIUS=100;X-TITLE=eXirius IT 
 Dienstleistungen GmbH:geo:49.4081,6.96074
END:VEVENT
BEGIN:VTIMEZONE
TZID:Europe/Berlin
X-LIC-LOCATION:Europe/Berlin
BEGIN:STANDARD
DTSTART:20191027T020000
TZOFFSETFROM:+0200
TZOFFSETTO:+0100
TZNAME:CET
END:STANDARD
END:VTIMEZONE
END:VCALENDAR